BEGIN:VCALENDAR
VERSION:2.0
PRODID:-//eventon.com NONSGML v1.0//EN
CALSCALE:GREGORIAN
METHOD:PUBLISH
BEGIN:VEVENT
UID:69eadeb1c07c4
DTSTAMP:20260424T030833Z
DTSTART:20260508T190000Z
DTEND:20260508T210000Z
LOCATION:Galicia Saal Galicia Bar
SUMMARY:AU REVOIR LEGS
DESCRIPTION:Diese Party geht in die Beine! Das mitreissende Repertoire der 
 80s Tribute Band &#8218;AU REVOIR LEGS&#8216; kitzelt in den Tanzbeinen und
  lässt nostalgische Herzen höher schlagen. Die leidenschaftlichen Profimu
 siker:innen Stéphanie Schmidt (Vocals)\,  Elias von Arx (Guitar)\,  Nicola
  Holenstein (Keys &amp; Saxophone)\,  Lia Low (Bass) und Mario Märchy (Dru
 ms) verführen ihr[..]\nhttps://www.galiciabar.ch/events/au-revoir-legs/
URL:https://www.galiciabar.ch/events/au-revoir-legs/
END:VEVENT
END:VCALENDAR