BEGIN:VCALENDAR
VERSION:2.0
PRODID:-//eventon.com NONSGML v1.0//EN
CALSCALE:GREGORIAN
METHOD:PUBLISH
BEGIN:VEVENT
UID:69eadf415098b
DTSTAMP:20260424T031057Z
DTSTART:20260607T150000Z
DTEND:20260607T170000Z
LOCATION:Kleine Bühne Galicia Bar
SUMMARY:Märchenabend für Erwachsene und Kinder ab 10 Jahren
DESCRIPTION:Die Welt ist voller wunderlicher und starker Wesen. Der Mensch 
 ist längst nicht das einzige darunter: Drachen speien Feuer und entscheide
 n zwischen Glück und Unglück. Tiere sind für die Menschen Helferfiguren 
 oder fordern sie mit einer Lehre heraus. Damit wir nicht vergessen\,  dass 
 alles im Leben mindestens zwei Seiten hat\, [..]\nhttps://www.galiciabar.ch
 /events/maerchenabend-fuer-erwachsene-und-kinder/
URL:https://www.galiciabar.ch/events/maerchenabend-fuer-erwachsene-und-kinder/
END:VEVENT
END:VCALENDAR