BEGIN:VCALENDAR
VERSION:2.0
PRODID:-//eventon.com NONSGML v1.0//EN
CALSCALE:GREGORIAN
METHOD:PUBLISH
BEGIN:VEVENT
UID:69eadddce6b10
DTSTAMP:20260424T030500Z
DTSTART:20260528T180000Z
DTEND:20260528T200000Z
LOCATION:Galicia Saal Galicia Bar
SUMMARY:iandara
DESCRIPTION:Die Galicia Bar Olten lädt zu einem besonderen Konzertabend mi
 t der Sängerin iandara ein. Im Mittelpunkt steht der Release ihrer neuen S
 ingle “Gurl”. iandara bewegt sich musikalisch zwischen verschiedenen We
 lten. Geboren in Zofingen\,  mit brasilianischen und französischen Wurzeln
 \,  verbindet sie in ihren Songs unterschiedliche kulturelle Einflüsse zu 
 einer eigenen\,  vielschichtigen[..]\nhttps://www.galiciabar.ch/events/iand
 ara-2/
URL:https://www.galiciabar.ch/events/iandara-2/
END:VEVENT
END:VCALENDAR